BEGIN:VCALENDAR
VERSION:2.0
PRODID:https://buehlenhausen.sv-web.de/

BEGIN:VEVENT
UID:event2106202669b7ed8c5d3c41.79520034
DTSTART:20260621T080000Z
DTEND:20260621T215900Z

SUMMARY:WIR 2026 - Sei auch du dabei
DESCRIPTION:Wir feiern an mehreren SV-Standorten gleichzeitig Gottesdienst - und jeder Standort feiert zu einem ganz besonderen Thema!\nNähere Infos hier\nSei auch DU dabei!
END:VEVENT

END:VCALENDAR